BEGIN:VCALENDAR
VERSION:2.0
PRODID:-//Hospitality - ECPv6.15.13//NONSGML v1.0//EN
CALSCALE:GREGORIAN
METHOD:PUBLISH
X-WR-CALNAME:Hospitality
X-ORIGINAL-URL:https://hospitality.staging.ruggerix.it
X-WR-CALDESC:Eventi per Hospitality
REFRESH-INTERVAL;VALUE=DURATION:PT1H
X-Robots-Tag:noindex
X-PUBLISHED-TTL:PT1H
BEGIN:VTIMEZONE
TZID:UTC
BEGIN:STANDARD
TZOFFSETFROM:+0000
TZOFFSETTO:+0000
TZNAME:UTC
DTSTART:20250101T000000
END:STANDARD
END:VTIMEZONE
BEGIN:VEVENT
DTSTART;TZID=UTC:20260301T080000
DTEND;TZID=UTC:20260301T170000
DTSTAMP:20260421T061949
CREATED:20250321T044135Z
LAST-MODIFIED:20250321T044135Z
UID:8332-1772352000-1772384400@hospitality.staging.ruggerix.it
SUMMARY:Wine & dine night
DESCRIPTION:The Creative Sparks Conference is a celebration of creativity and innovation. Join us to explore the latest trends in design\, advertising\, media\, and the arts. This conference is an exciting opportunity for professionals in the creative industry to learn\, network\, and collaborate. Attend inspiring workshops\, presentations\, and panel discussions that challenge conventional thinking and spark new ways of approaching creative challenges. Whether you’re a designer\, marketer\, or artist\, the Creative Sparks Conference will inspire and motivate you to push the boundaries of your craft.
URL:https://hospitality.staging.ruggerix.it/event/wine-dine-night/
LOCATION:Sizlo
CATEGORIES:Private Dining,Wine & Dine
ATTACH;FMTTYPE=image/jpeg:https://hospitality.staging.ruggerix.it/wp-content/uploads/sites/2/2025/03/wine-dine-night.jpg
ORGANIZER;CN="Spark Creative Events":MAILTO:info@example.com
END:VEVENT
BEGIN:VEVENT
DTSTART;TZID=UTC:20260519T080000
DTEND;TZID=UTC:20260519T170000
DTSTAMP:20260421T061949
CREATED:20250321T044037Z
LAST-MODIFIED:20250321T044037Z
UID:8324-1779177600-1779210000@hospitality.staging.ruggerix.it
SUMMARY:Try some healthy food
DESCRIPTION:Join us at the Tech Evolution Expo on June 10\, where industry leaders\, innovators\, and tech enthusiasts come together to explore cutting-edge technologies\, futuristic gadgets\, and emerging trends in the tech world. Whether you’re interested in AI\, robotics\, IoT\, or cybersecurity\, this event offers an unparalleled opportunity to network\, learn\, and engage with the latest in technology. Don’t miss out on thought-provoking presentations\, hands-on demos\, and exciting networking opportunities.
URL:https://hospitality.staging.ruggerix.it/event/try-some-healthy-food/
LOCATION:Sizlo
CATEGORIES:Private Dining
ATTACH;FMTTYPE=image/jpeg:https://hospitality.staging.ruggerix.it/wp-content/uploads/sites/2/2025/03/healthy-food.jpg
ORGANIZER;CN="Tech Innovations Group":MAILTO:info@example.com
END:VEVENT
END:VCALENDAR